BEGIN:VCALENDAR
VERSION:2.0
PRODID:-//Steezy Glossy - ECPv6.15.20//NONSGML v1.0//EN
CALSCALE:GREGORIAN
METHOD:PUBLISH
X-WR-CALNAME:Steezy Glossy
X-ORIGINAL-URL:https://steezyglossy.com
X-WR-CALDESC:Events for Steezy Glossy
REFRESH-INTERVAL;VALUE=DURATION:PT1H
X-Robots-Tag:noindex
X-PUBLISHED-TTL:PT1H
BEGIN:VTIMEZONE
TZID:Asia/Kolkata
BEGIN:STANDARD
TZOFFSETFROM:+0530
TZOFFSETTO:+0530
TZNAME:IST
DTSTART:20240101T000000
END:STANDARD
END:VTIMEZONE
BEGIN:VEVENT
DTSTART;TZID=Asia/Kolkata:20250926T160000
DTEND;TZID=Asia/Kolkata:20251001T220000
DTSTAMP:20260422T104426
CREATED:20250927T081008Z
LAST-MODIFIED:20251014T035648Z
UID:2279-1758902400-1759356000@steezyglossy.com
SUMMARY:Join Us at Jayamahal Palace for Dandiya 2025
DESCRIPTION:Excited to be part of the Maha Dandiya Utsav 2025\, organized by @fusenetworx !🌟 \n\n\n\nJoin me at Jayamahal Palace\, Bengaluru for this vibrant 4-day event! 🎉 We’ll be featuring handcrafted home decor and accessories. @steezyglossy \n\n\n\n🎪 Venue: Jayamahal Palace\, Bangalore🕓 Timing: 4 PM – 10 PM🗓️Dates: 26th to 28th Sep & 1st Oct 2025 (4 days) \n\n\n\nExplore our one-of-a-kind hand-painted tea light candle holders\, wall decor\, clocks\, keychains\, bookmarks\, fridge magnets\, and beautiful jewelry like earrings\, neckchains\, and bracelets. 💖✨ \n\n\n\nCome visit my stall and add a splash of creativity to your home or find the perfect gift! Can’t wait to see you there! 💫 \n\n\n\n#SteezyGlossy #MahaDandiyaUtsav2025 #FuseNetworx #BengaluruEvents #HandmadeWithLove #SupportLocalArtisans #MahaDandiyaUtsav #HomeDecor #ArtisanMarket #ShopLocal #CreativeGifts #Handpainted #DandiyaNights #CraftedWithLove #ColorfulDecor #jewelrydesigns #artlovers #handmade #supportlocalartists #bengalurudiaries #exhibition \n\n\n\n[Handmade\, Artisanal\, Unique Decor\, Home Accessories\, Festive Shopping\, Local Artisans\, Creative Gifts\, Colorful Home Decor\, Dandiya Celebration\, Craft Fair\, Home Improvement\, Interior Design\, Art Lovers\, Art Enthusiasts\, Small Business]
URL:https://steezyglossy.com/event/join-us-at-jayamahal-palace-for-dandiya-2025/
LOCATION:Jayamahal Palace\, Bengaluru\, XHWW+GF2\, 2nd Main Rd\, Nandi Durga Road Extension\, Jayamahal\, Bengaluru\, Karnataka\, Bangalore\, Karnataka\, 560046\, India
ATTACH;FMTTYPE=image/jpeg:https://steezyglossy.com/wp-content/uploads/2025/09/WhatsApp-Image-2025-09-27-at-1.36.06-PM.jpeg
END:VEVENT
BEGIN:VEVENT
DTSTART;TZID=Asia/Kolkata:20251031T180000
DTEND;TZID=Asia/Kolkata:20251031T233000
DTSTAMP:20260422T104426
CREATED:20251015T082427Z
LAST-MODIFIED:20251015T082857Z
UID:2297-1761933600-1761953400@steezyglossy.com
SUMMARY:Hallocon
DESCRIPTION:Get ready to celebrate Halloween in style with Steezy Glossy! We are thrilled to announce that we’ll be setting up a vibrant stall at the Blood Moon Bash\, showcasing our unique collection of hand-painted anime cartoon home decor and accessories. \n\n\n\nAt our stall\, you’ll find one-of-a-kind pieces that will add a touch of whimsy and artistry to your space. From colorful wall art to fun accessories\, each item is crafted with love and creativity\, perfect for anime enthusiasts and home decor lovers alike. \n\n\n\nJoin us for a night of creativity and spookiness as you explore our offerings. Don’t miss the chance to meet our talented artists\, grab some exclusive deals\, and take home a piece of Steezy Glossy magic! \n\n\n\n🏷️ Find Us: Search for the Steezy Glossy stall amidst the festivities! 📍 Venue: Fandom at Gilly’s Redefined\, Koramangala\, Bengaluru 📅 Date: 31st October 2025 🎟️ Book Now: https://link.district.in/DSTRKT/9z5yjm51 \n\n\n\nWe can’t wait to see you there and share the Halloween spirit with our amazing creations!
URL:https://steezyglossy.com/event/blood-moon-bash-2/
LOCATION:Fandom at Gilly’s Redefined\, koramangala\, Bengaluru\, India
END:VEVENT
END:VCALENDAR