BEGIN:VCALENDAR
VERSION:2.0
PRODID:-//Steezy Glossy - ECPv6.15.20//NONSGML v1.0//EN
CALSCALE:GREGORIAN
METHOD:PUBLISH
X-ORIGINAL-URL:https://steezyglossy.com
X-WR-CALDESC:Events for Steezy Glossy
REFRESH-INTERVAL;VALUE=DURATION:PT1H
X-Robots-Tag:noindex
X-PUBLISHED-TTL:PT1H
BEGIN:VTIMEZONE
TZID:Asia/Kolkata
BEGIN:STANDARD
TZOFFSETFROM:+0530
TZOFFSETTO:+0530
TZNAME:IST
DTSTART:20240101T000000
END:STANDARD
END:VTIMEZONE
BEGIN:VTIMEZONE
TZID:UTC
BEGIN:STANDARD
TZOFFSETFROM:+0000
TZOFFSETTO:+0000
TZNAME:UTC
DTSTART:20240101T000000
END:STANDARD
END:VTIMEZONE
BEGIN:VEVENT
DTSTART;TZID=Asia/Kolkata:20250815T100000
DTEND;TZID=Asia/Kolkata:20250817T190000
DTSTAMP:20260423T032351
CREATED:20250702T054545Z
LAST-MODIFIED:20250903T081528Z
UID:2258-1755252000-1755457200@steezyglossy.com
SUMMARY:IAF Elite Fair 2025
DESCRIPTION:I am excited to announce my participation in an upcoming art exhibition! Join me at Stall F11 to explore a vibrant collection of mixed-media artworks\, including Lippan Art\, Madhubani Art\, Dot Mandala Painting\, Mandala Painting\, Resin Art\, and much more. I can’t wait to share my passion for art with you! \n\n\n\nEXHIBITION DETAILS: \n\n\n\n– **Location:** Wings Convention Center\, Shenoy Nagar\, Chennai– **Stall Number:** F11– **Date:** August 15th – 17th\, 2025– **Timing:** 10 AM to 7 PM \n\n\n\nLooking forward to seeing you there!
URL:https://steezyglossy.com/event/iaf-elite-fair-2025/
LOCATION:Wings Convention Center\, Chennai\, Tamil Nadu\, India
END:VEVENT
BEGIN:VEVENT
DTSTART;TZID=Asia/Kolkata:20250926T160000
DTEND;TZID=Asia/Kolkata:20251001T220000
DTSTAMP:20260423T032351
CREATED:20250927T081008Z
LAST-MODIFIED:20251014T035648Z
UID:2279-1758902400-1759356000@steezyglossy.com
SUMMARY:Join Us at Jayamahal Palace for Dandiya 2025
DESCRIPTION:Excited to be part of the Maha Dandiya Utsav 2025\, organized by @fusenetworx !🌟 \n\n\n\nJoin me at Jayamahal Palace\, Bengaluru for this vibrant 4-day event! 🎉 We’ll be featuring handcrafted home decor and accessories. @steezyglossy \n\n\n\n🎪 Venue: Jayamahal Palace\, Bangalore🕓 Timing: 4 PM – 10 PM🗓️Dates: 26th to 28th Sep & 1st Oct 2025 (4 days) \n\n\n\nExplore our one-of-a-kind hand-painted tea light candle holders\, wall decor\, clocks\, keychains\, bookmarks\, fridge magnets\, and beautiful jewelry like earrings\, neckchains\, and bracelets. 💖✨ \n\n\n\nCome visit my stall and add a splash of creativity to your home or find the perfect gift! Can’t wait to see you there! 💫 \n\n\n\n#SteezyGlossy #MahaDandiyaUtsav2025 #FuseNetworx #BengaluruEvents #HandmadeWithLove #SupportLocalArtisans #MahaDandiyaUtsav #HomeDecor #ArtisanMarket #ShopLocal #CreativeGifts #Handpainted #DandiyaNights #CraftedWithLove #ColorfulDecor #jewelrydesigns #artlovers #handmade #supportlocalartists #bengalurudiaries #exhibition \n\n\n\n[Handmade\, Artisanal\, Unique Decor\, Home Accessories\, Festive Shopping\, Local Artisans\, Creative Gifts\, Colorful Home Decor\, Dandiya Celebration\, Craft Fair\, Home Improvement\, Interior Design\, Art Lovers\, Art Enthusiasts\, Small Business]
URL:https://steezyglossy.com/event/join-us-at-jayamahal-palace-for-dandiya-2025/
LOCATION:Jayamahal Palace\, Bengaluru\, XHWW+GF2\, 2nd Main Rd\, Nandi Durga Road Extension\, Jayamahal\, Bengaluru\, Karnataka\, Bangalore\, Karnataka\, 560046\, India
ATTACH;FMTTYPE=image/jpeg:https://steezyglossy.com/wp-content/uploads/2025/09/WhatsApp-Image-2025-09-27-at-1.36.06-PM.jpeg
END:VEVENT
BEGIN:VEVENT
DTSTART;TZID=Asia/Kolkata:20251031T180000
DTEND;TZID=Asia/Kolkata:20251031T233000
DTSTAMP:20260423T032351
CREATED:20251015T082427Z
LAST-MODIFIED:20251015T082857Z
UID:2297-1761933600-1761953400@steezyglossy.com
SUMMARY:Hallocon
DESCRIPTION:Get ready to celebrate Halloween in style with Steezy Glossy! We are thrilled to announce that we’ll be setting up a vibrant stall at the Blood Moon Bash\, showcasing our unique collection of hand-painted anime cartoon home decor and accessories. \n\n\n\nAt our stall\, you’ll find one-of-a-kind pieces that will add a touch of whimsy and artistry to your space. From colorful wall art to fun accessories\, each item is crafted with love and creativity\, perfect for anime enthusiasts and home decor lovers alike. \n\n\n\nJoin us for a night of creativity and spookiness as you explore our offerings. Don’t miss the chance to meet our talented artists\, grab some exclusive deals\, and take home a piece of Steezy Glossy magic! \n\n\n\n🏷️ Find Us: Search for the Steezy Glossy stall amidst the festivities! 📍 Venue: Fandom at Gilly’s Redefined\, Koramangala\, Bengaluru 📅 Date: 31st October 2025 🎟️ Book Now: https://link.district.in/DSTRKT/9z5yjm51 \n\n\n\nWe can’t wait to see you there and share the Halloween spirit with our amazing creations!
URL:https://steezyglossy.com/event/blood-moon-bash-2/
LOCATION:Fandom at Gilly’s Redefined\, koramangala\, Bengaluru\, India
END:VEVENT
BEGIN:VEVENT
DTSTART;TZID=Asia/Kolkata:20251102T180000
DTEND;TZID=Asia/Kolkata:20251102T233000
DTSTAMP:20260423T032351
CREATED:20251014T071616Z
LAST-MODIFIED:20251015T082710Z
UID:2287-1762106400-1762126200@steezyglossy.com
SUMMARY:Blood Moon bash
DESCRIPTION:Steezy Glossy at Blood Moon Bash – Bengaluru 🌕🦇 \n\n\n\nGet ready to celebrate Halloween in style with Steezy Glossy! We are thrilled to announce that we’ll be setting up a vibrant stall at the Blood Moon Bash\, showcasing our unique collection of hand-painted anime cartoon home decor and accessories. \n\n\n\nAt our stall\, you’ll find one-of-a-kind pieces that will add a touch of whimsy and artistry to your space. From colorful wall art to fun accessories\, each item is crafted with love and creativity\, perfect for anime enthusiasts and home decor lovers alike. \n\n\n\nJoin us for a night of creativity and spookiness as you explore our offerings. Don’t miss the chance to meet our talented artists\, grab some exclusive deals\, and take home a piece of Steezy Glossy magic! \n\n\n\n🏷️ Find Us: Search for the Steezy Glossy stall amidst the festivities! 📍 Venue: Pebbles Jungle Lounge\, Bengaluru 📅 Date: 2nd November 2025 🎟️ Book Now: https://link.district.in/DSTRKT/9z5yjm51 \n\n\n\nWe can’t wait to see you there and share the Halloween spirit with our amazing creations!
URL:https://steezyglossy.com/event/blood-moon-bash/
LOCATION:pebbles\, The lounge\, Palace Ground\, Bengaluru\, KA
END:VEVENT
BEGIN:VEVENT
DTSTART;TZID=UTC:20251205T080000
DTEND;TZID=UTC:20251207T200000
DTSTAMP:20260423T032351
CREATED:20250308T100553Z
LAST-MODIFIED:20250308T103021Z
UID:1996-1764921600-1765137600@steezyglossy.com
SUMMARY:The Haat of Art - Art Exhibition in Bangalore
DESCRIPTION:Join us for “The Haat of Art” at Jayamahal Palace\, Bengaluru\, from Decmber 5th to 7th\, 2025! Experience a vibrant showcase of artistic talent\, featuring Steezy Glossy’s innovative artworks. Don’t miss this celebration of creativity—come and immerse yourself in the art world! \n\n\n\n\n\n\n\n\n\nThe Haat of Art\n\n\n\n\nHome
URL:https://steezyglossy.com/event/the-haat-of-art-art-exhibition-in-bangalore/
LOCATION:Jayamahal Palace\, Bengaluru\, XHWW+GF2\, 2nd Main Rd\, Nandi Durga Road Extension\, Jayamahal\, Bengaluru\, Karnataka\, Bangalore\, Karnataka\, 560046\, India
END:VEVENT
BEGIN:VEVENT
DTSTART;TZID=Asia/Kolkata:20260201T090000
DTEND;TZID=Asia/Kolkata:20260201T180000
DTSTAMP:20260423T032351
CREATED:20250903T082507Z
LAST-MODIFIED:20251014T072424Z
UID:2272-1769936400-1769968800@steezyglossy.com
SUMMARY:Oviya Sangamam 2026
DESCRIPTION:Steezy Glossy at Chennaiyil Oar Oviya Sangamam!\n\n\n\nSteezy Glossy is excited to showcase our collection at the Chennaiyil Oar Oviya Sangamam 2026! Visit us at Stall No: 006 to explore our exquisite selection of hand-painted home décor and accessories. \n\n\n\nEvent Details: \n\n\n\n\nDate: Sunday\, 1st February 2026\n\n\n\nTime: 9:00 AM – 6:00 PM\n\n\n\nStall Number: 006\n\n\n\nVenue: St. George School Campus\, Wings Open Ground\,Shenoy Nagar\, Chennai (Opposite Pachaiyappas College)\n\n\n\n\nDon’t miss this opportunity to discover unique\, artistic pieces that can add charm and personality to your living space. We look forward to seeing you there!
URL:https://steezyglossy.com/event/oviya-sangamam-2026/
LOCATION:St. George School\, Shenoy Nagar\, Chennai\, Chennai\, Tamilnadu\, India
END:VEVENT
BEGIN:VEVENT
DTSTART;TZID=Asia/Kolkata:20260314T110000
DTEND;TZID=Asia/Kolkata:20260315T200000
DTSTAMP:20260423T032351
CREATED:20251014T072834Z
LAST-MODIFIED:20251014T073203Z
UID:2291-1773486000-1773604800@steezyglossy.com
SUMMARY:IAF Elite Art Fair 2026 - Bengaluru
DESCRIPTION:We are excited to share that Steezy Glossy will be showcasing our exclusive range of hand-painted home décor and accessories at the IAF Elite Art Fair 2026! \n\n\n\nJoin us at Stall Number D18\, where you can explore our unique collection that adds a touch of artistry to any space. Each piece is meticulously crafted\, reflecting our passion for creativity and design. \n\n\n\nEvent Details: \n\n\n\n\nVenue: Kings Court\, Palace Grounds\, Bellary Road\, Bengaluru\, Karnataka\n\n\n\nDate: 14th & 15th March 2026\n\n\n\nTiming: 11:00 AM to 8:00 PM\n\n\n\n\nWe invite you to visit our stall and experience the beauty of handcrafted decor!
URL:https://steezyglossy.com/event/2291/
LOCATION:King’s Court\, Palace Ground\, Bengaluru\, Karnataka\, India
ATTACH;FMTTYPE=image/jpeg:https://steezyglossy.com/wp-content/uploads/2025/10/WhatsApp-Image-2025-10-08-at-11.13.18-AM.jpeg
END:VEVENT
END:VCALENDAR