BEGIN:VCALENDAR
VERSION:2.0
PRODID:-//Steezy Glossy - ECPv6.15.20//NONSGML v1.0//EN
CALSCALE:GREGORIAN
METHOD:PUBLISH
X-WR-CALNAME:Steezy Glossy
X-ORIGINAL-URL:https://steezyglossy.com
X-WR-CALDESC:Events for Steezy Glossy
REFRESH-INTERVAL;VALUE=DURATION:PT1H
X-Robots-Tag:noindex
X-PUBLISHED-TTL:PT1H
BEGIN:VTIMEZONE
TZID:Asia/Kolkata
BEGIN:STANDARD
TZOFFSETFROM:+0530
TZOFFSETTO:+0530
TZNAME:IST
DTSTART:20240101T000000
END:STANDARD
END:VTIMEZONE
BEGIN:VTIMEZONE
TZID:UTC
BEGIN:STANDARD
TZOFFSETFROM:+0000
TZOFFSETTO:+0000
TZNAME:UTC
DTSTART:20230101T000000
END:STANDARD
END:VTIMEZONE
BEGIN:VEVENT
DTSTART;TZID=Asia/Kolkata:20250815T100000
DTEND;TZID=Asia/Kolkata:20250817T190000
DTSTAMP:20260423T041536
CREATED:20250702T054545Z
LAST-MODIFIED:20250903T081528Z
UID:2258-1755252000-1755457200@steezyglossy.com
SUMMARY:IAF Elite Fair 2025
DESCRIPTION:I am excited to announce my participation in an upcoming art exhibition! Join me at Stall F11 to explore a vibrant collection of mixed-media artworks\, including Lippan Art\, Madhubani Art\, Dot Mandala Painting\, Mandala Painting\, Resin Art\, and much more. I can’t wait to share my passion for art with you! \n\n\n\nEXHIBITION DETAILS: \n\n\n\n– **Location:** Wings Convention Center\, Shenoy Nagar\, Chennai– **Stall Number:** F11– **Date:** August 15th – 17th\, 2025– **Timing:** 10 AM to 7 PM \n\n\n\nLooking forward to seeing you there!
URL:https://steezyglossy.com/event/iaf-elite-fair-2025/
LOCATION:Wings Convention Center\, Chennai\, Tamil Nadu\, India
END:VEVENT
BEGIN:VEVENT
DTSTART;TZID=UTC:20250222T080000
DTEND;TZID=UTC:20250222T200000
DTSTAMP:20260423T041536
CREATED:20250224T044057Z
LAST-MODIFIED:20250308T102856Z
UID:1954-1740211200-1740254400@steezyglossy.com
SUMMARY:Fiesta 25' at St.Joseph University
DESCRIPTION:
URL:https://steezyglossy.com/event/fiesta-25-at-st-joseph-university/
END:VEVENT
BEGIN:VEVENT
DTSTART;TZID=UTC:20250215T110000
DTEND;TZID=UTC:20250215T233000
DTSTAMP:20260423T041536
CREATED:20250308T101542Z
LAST-MODIFIED:20250308T102847Z
UID:2000-1739617200-1739662200@steezyglossy.com
SUMMARY:Anigma Festival 2025
DESCRIPTION:Cosplay\, Music\, DJ Madness\, Dance\, Art \n\n\n\nActivities: Anime Quiz\, Rap Battle\, K-Pop Dance\, Cosplay Contest\, Ball Dance & DJ Nights \n\n\n\nFree Workshops: Cosplay VFX\, Resin Art\, Moon Lamp\, Tote Bag Painting & more!
URL:https://steezyglossy.com/event/anigma-festival-2025/
LOCATION:Gate number 9\, Princess Academy\, Palace Grounds 3 \, Ramana Maharishi Road\, Bellary Rd\, Bengaluru\, Karnataka 560080\, Pebbles\, The Lounge
END:VEVENT
BEGIN:VEVENT
DTSTART;TZID=UTC:20250124T100000
DTEND;TZID=UTC:20250126T180000
DTSTAMP:20260423T041536
CREATED:20241031T091115Z
LAST-MODIFIED:20250308T103001Z
UID:1620-1737712800-1737914400@steezyglossy.com
SUMMARY:The Haat of Art - Art Exhibition in Bangalore
DESCRIPTION:Join us for “The Haat of Art” at Jayamahal Palace\, Bengaluru\, from January 24th to 26th\, 2025! Experience a vibrant showcase of artistic talent\, featuring Steezy Glossy’s innovative artworks. Don’t miss this celebration of creativity—come and immerse yourself in the art world!
URL:https://steezyglossy.com/event/upcoming-art-exhibition/
LOCATION:Jayamahal Palace\, Bengaluru\, XHWW+GF2\, 2nd Main Rd\, Nandi Durga Road Extension\, Jayamahal\, Bengaluru\, Karnataka\, Bangalore\, Karnataka\, 560046\, India
END:VEVENT
BEGIN:VEVENT
DTSTART;TZID=UTC:20250111T090000
DTEND;TZID=UTC:20250112T183000
DTSTAMP:20260423T041536
CREATED:20241031T093242Z
LAST-MODIFIED:20241106T012550Z
UID:1627-1736586000-1736706600@steezyglossy.com
SUMMARY:Indian Art Gallery - Art Exhibition in Chennai
DESCRIPTION:Join us in Chennai on January 11-12\, 2025\, for “Graceful Stroke\,” hosted by Indian Art Factory. This exciting event features 150 artists showcasing their unique artworks in a World Record attempt. Steezy Glossy is thrilled to participate! Don’t miss this chance to experience creativity at its finest. We invite you to come and be part of this extraordinary celebration!
URL:https://steezyglossy.com/event/graceful-stroke-world-record-art-exhibition/
LOCATION:SK’s The Line & Curves – Art Gallery\, Chennai\, 3\, 2nd Floor\, siva parvathy nagar\, Red Hills Rd\, Siva Parvathi Nagar\, Kolathur\,\, Chennai\, Tamilnadu\, 600099\, India
END:VEVENT
BEGIN:VEVENT
DTSTART;TZID=UTC:20241014T110000
DTEND;TZID=UTC:20241014T183000
DTSTAMP:20260423T041536
CREATED:20241106T014306Z
LAST-MODIFIED:20250308T102951Z
UID:1693-1728903600-1728930600@steezyglossy.com
SUMMARY:International Online Art Contest - Season 16
DESCRIPTION:International Online Art Contest – Season 16.
URL:https://steezyglossy.com/event/indian-art-factory-2/
LOCATION:SK’s The Line & Curves – Art Gallery\, Chennai\, 3\, 2nd Floor\, siva parvathy nagar\, Red Hills Rd\, Siva Parvathi Nagar\, Kolathur\,\, Chennai\, Tamilnadu\, 600099\, India
END:VEVENT
BEGIN:VEVENT
DTSTART;TZID=UTC:20241011T110000
DTEND;TZID=UTC:20241013T183000
DTSTAMP:20260423T041536
CREATED:20241106T014014Z
LAST-MODIFIED:20250308T102936Z
UID:1690-1728644400-1728844200@steezyglossy.com
SUMMARY:Symphony of Colours\, 8th International Painting\, Sculpture Exhibition & Sale.
DESCRIPTION:Symphony of Colours\, 8th International Painting\, Sculpture Exhibition & Sale.
URL:https://steezyglossy.com/event/indian-art-factory/
LOCATION:SK’s The Line & Curves – Art Gallery\, Chennai\, 3\, 2nd Floor\, siva parvathy nagar\, Red Hills Rd\, Siva Parvathi Nagar\, Kolathur\,\, Chennai\, Tamilnadu\, 600099\, India
END:VEVENT
BEGIN:VEVENT
DTSTART;TZID=UTC:20240929T063000
DTEND;TZID=UTC:20240929T190000
DTSTAMP:20260423T041536
CREATED:20250308T102433Z
LAST-MODIFIED:20250308T102908Z
UID:2010-1727591400-1727636400@steezyglossy.com
SUMMARY:The Sunday Food Feast
DESCRIPTION:
URL:https://steezyglossy.com/event/the-sunday-food-feast/
LOCATION:6th main\, Kothnur Main Rd\, opp. Brigade Millenium Road\, Puttenahalli\, JP Nagar 7th Phase\, Bengaluru\, Karnataka 560078\, Shubh Convention Hall
END:VEVENT
BEGIN:VEVENT
DTSTART;TZID=UTC:20240824T110000
DTEND;TZID=UTC:20240824T180000
DTSTAMP:20260423T041536
CREATED:20250308T102722Z
LAST-MODIFIED:20250308T102917Z
UID:2016-1724497200-1724522400@steezyglossy.com
SUMMARY:House of Little Monkey
DESCRIPTION:Art\, Folk\, Theatre\, Games\, Literature & Entertainment
URL:https://steezyglossy.com/event/house-of-little-monkey/
LOCATION:Jayamahal Palace\, Bengaluru\, XHWW+GF2\, 2nd Main Rd\, Nandi Durga Road Extension\, Jayamahal\, Bengaluru\, Karnataka\, Bangalore\, Karnataka\, 560046\, India
END:VEVENT
END:VCALENDAR